BEGIN:VCALENDAR
VERSION:2.0
PRODID:-//eventon.com NONSGML v1.0//EN
CALSCALE:GREGORIAN
METHOD:PUBLISH
BEGIN:VEVENT
UID:69e8ab84ab73f
DTSTAMP:20260422T110540Z
DTSTART:20260428T170000Z
DTEND:20260428T190000Z
LOCATION:Tsv Lonnerstadt Am Sonnenhügel 1\,  91475 Lonnerstadt\,  Deutschland
SUMMARY:Training Herren
DESCRIPTION:B-Platz
URL:https://www.tsv-lonnerstadt.de/termin/training-herren-3/
END:VEVENT
END:VCALENDAR