BEGIN:VCALENDAR
VERSION:2.0
PRODID:-//eventon.com NONSGML v1.0//EN
CALSCALE:GREGORIAN
METHOD:PUBLISH
BEGIN:VEVENT
UID:69e88e38d1067
DTSTAMP:20260422T090040Z
DTSTART:20260710T080000Z
DTEND:20260710T090000Z
LOCATION:TSV Sportheim
SUMMARY:Senioren-Fitness mit dem Stuhl
DESCRIPTION:Senioren-Fitness mit dem Stuhl
URL:https://www.tsv-lonnerstadt.de/termin/senioren-fitness-mit-dem-stuhl-18/
END:VEVENT
END:VCALENDAR